BEGIN:VCALENDAR
VERSION:2.0
PRODID:-//Gary Johns - ECPv4.7.4//NONSGML v1.0//EN
CALSCALE:GREGORIAN
METHOD:PUBLISH
X-WR-CALNAME:Gary Johns
X-ORIGINAL-URL:http://www.garyjohns.com.au
X-WR-CALDESC:Events for Gary Johns
BEGIN:VEVENT
DTSTART;VALUE=DATE:20170506
DTEND;VALUE=DATE:20170507
DTSTAMP:20190228T221351
CREATED:20170331T030503Z
LAST-MODIFIED:20170412T015513Z
UID:203-1494028800-1494115199@www.garyjohns.com.au
SUMMARY:Epping Hotel
DESCRIPTION:Gary Johns and Sydney Funk Collective will be performing at the Epping Hotel on Saturday 6th May from 10pm-1am as a 5 piece party band. \n
URL:http://www.garyjohns.com.au/event/epping-hotel
LOCATION:Epping Hotel\, Australia
CATEGORIES:Upcoming Gigs
END:VEVENT
END:VCALENDAR